BEGIN:VCALENDAR
VERSION:2.0
PRODID:-//Scottsdale Christian Academy - ECPv6.15.20//NONSGML v1.0//EN
CALSCALE:GREGORIAN
METHOD:PUBLISH
X-ORIGINAL-URL:https://scottsdalechristian.org
X-WR-CALDESC:Events for Scottsdale Christian Academy
REFRESH-INTERVAL;VALUE=DURATION:PT1H
X-Robots-Tag:noindex
X-PUBLISHED-TTL:PT1H
BEGIN:VTIMEZONE
TZID:America/Phoenix
BEGIN:STANDARD
TZOFFSETFROM:-0700
TZOFFSETTO:-0700
TZNAME:MST
DTSTART:20240101T000000
END:STANDARD
END:VTIMEZONE
BEGIN:VEVENT
DTSTART;TZID=America/Phoenix:20250806T010000
DTEND;TZID=America/Phoenix:20250806T100000
DTSTAMP:20260423T032042
CREATED:20250708T010617Z
LAST-MODIFIED:20250708T030045Z
UID:13734-1754442000-1754474400@scottsdalechristian.org
SUMMARY:MS/HS First Year Experience
DESCRIPTION:Refer to the Registration and Information Manual for exact times.
URL:https://scottsdalechristian.org/calendar/ms-hs-new-family-orientation-2/
END:VEVENT
END:VCALENDAR