BEGIN:VCALENDAR
VERSION:2.0
PRODID:-//Scottsdale Christian Academy - ECPv6.15.20//NONSGML v1.0//EN
CALSCALE:GREGORIAN
METHOD:PUBLISH
X-WR-CALNAME:Scottsdale Christian Academy
X-ORIGINAL-URL:https://scottsdalechristian.org
X-WR-CALDESC:Events for Scottsdale Christian Academy
REFRESH-INTERVAL;VALUE=DURATION:PT1H
X-Robots-Tag:noindex
X-PUBLISHED-TTL:PT1H
BEGIN:VTIMEZONE
TZID:America/Phoenix
BEGIN:STANDARD
TZOFFSETFROM:-0700
TZOFFSETTO:-0700
TZNAME:MST
DTSTART:20240101T000000
END:STANDARD
END:VTIMEZONE
BEGIN:VEVENT
DTSTART;TZID=America/Phoenix:20250813T003500
DTEND;TZID=America/Phoenix:20250813T080000
DTSTAMP:20260423T014004
CREATED:20250708T013016Z
LAST-MODIFIED:20250708T013019Z
UID:13746-1755045300-1755072000@scottsdalechristian.org
SUMMARY:First Day of School Elementary
DESCRIPTION:
URL:https://scottsdalechristian.org/calendar/first-day-of-school-elementary/
END:VEVENT
END:VCALENDAR