BEGIN:VCALENDAR
VERSION:2.0
PRODID:-//Scottsdale Christian Academy - ECPv6.15.20//NONSGML v1.0//EN
CALSCALE:GREGORIAN
METHOD:PUBLISH
X-ORIGINAL-URL:https://scottsdalechristian.org
X-WR-CALDESC:Events for Scottsdale Christian Academy
REFRESH-INTERVAL;VALUE=DURATION:PT1H
X-Robots-Tag:noindex
X-PUBLISHED-TTL:PT1H
BEGIN:VTIMEZONE
TZID:America/Phoenix
BEGIN:STANDARD
TZOFFSETFROM:-0700
TZOFFSETTO:-0700
TZNAME:MST
DTSTART:20240101T000000
END:STANDARD
END:VTIMEZONE
BEGIN:VEVENT
DTSTART;TZID=America/Phoenix:20250831T170000
DTEND;TZID=America/Phoenix:20250901T165959
DTSTAMP:20260423T040411
CREATED:20250708T013454Z
LAST-MODIFIED:20250708T013457Z
UID:13749-1756659600-1756745999@scottsdalechristian.org
SUMMARY:Labor Day
DESCRIPTION:Our office will be closed in observance of Labor Day.
URL:https://scottsdalechristian.org/calendar/labor-day/
END:VEVENT
BEGIN:VEVENT
DTSTART;VALUE=DATE:20250901
DTEND;VALUE=DATE:20250906
DTSTAMP:20260423T040411
CREATED:20250708T031159Z
LAST-MODIFIED:20250902T194539Z
UID:13757-1756746000-1757091599@scottsdalechristian.org
SUMMARY:HS Retreat
DESCRIPTION:  \nDEPARTURE \nSeptember 2nd @ 2:15 pmSeniors\, Stugo\, and Spiritual Life/Worship Team Students \nSeptember 3rd @ 8:20 amGrades 9-11 
URL:https://scottsdalechristian.org/calendar/hs-retreat/
END:VEVENT
BEGIN:VEVENT
DTSTART;TZID=America/Phoenix:20250912T063000
DTEND;TZID=America/Phoenix:20250912T073000
DTSTAMP:20260423T040411
CREATED:20250708T031715Z
LAST-MODIFIED:20250902T191144Z
UID:13758-1757658600-1757662200@scottsdalechristian.org
SUMMARY:Men's Fellowship Breakfast
DESCRIPTION: 
URL:https://scottsdalechristian.org/calendar/mens-fellowship-breakfast-8/
END:VEVENT
BEGIN:VEVENT
DTSTART;TZID=America/Phoenix:20250919T170000
DTEND;TZID=America/Phoenix:20250919T170000
DTSTAMP:20260423T040411
CREATED:20250917T204102Z
LAST-MODIFIED:20250917T204122Z
UID:14224-1758301200-1758301200@scottsdalechristian.org
SUMMARY:Homecoming
DESCRIPTION:
URL:https://scottsdalechristian.org/calendar/homecoming-football-game/
END:VEVENT
BEGIN:VEVENT
DTSTART;TZID=America/Phoenix:20250920T190000
DTEND;TZID=America/Phoenix:20250920T220000
DTSTAMP:20260423T040411
CREATED:20250917T204627Z
LAST-MODIFIED:20250917T204627Z
UID:14225-1758394800-1758405600@scottsdalechristian.org
SUMMARY:Homecoming Dance
DESCRIPTION:
URL:https://scottsdalechristian.org/calendar/homecoming-dance-3/
END:VEVENT
BEGIN:VEVENT
DTSTART;VALUE=DATE:20250924
DTEND;VALUE=DATE:20250925
DTSTAMP:20260423T040411
CREATED:20250915T231502Z
LAST-MODIFIED:20250917T205118Z
UID:14161-1758672000-1758758399@scottsdalechristian.org
SUMMARY:Early Dismissal (Professional Development Day)
DESCRIPTION:Elementary – 11:30 am\nUpper School – 11:50 am
URL:https://scottsdalechristian.org/calendar/early-dismissal-professional-development-day/
CATEGORIES:General
END:VEVENT
BEGIN:VEVENT
DTSTART;TZID=America/Phoenix:20250924T070000
DTEND;TZID=America/Phoenix:20250924T073000
DTSTAMP:20260423T040411
CREATED:20250915T230856Z
LAST-MODIFIED:20250915T230856Z
UID:14157-1758697200-1758699000@scottsdalechristian.org
SUMMARY:See You At The Pole
DESCRIPTION:
URL:https://scottsdalechristian.org/calendar/see-you-at-the-pole-3/
CATEGORIES:General
END:VEVENT
BEGIN:VEVENT
DTSTART;TZID=America/Phoenix:20250930T173000
DTEND;TZID=America/Phoenix:20250930T183000
DTSTAMP:20260423T040411
CREATED:20250915T231035Z
LAST-MODIFIED:20250915T231035Z
UID:14159-1759253400-1759257000@scottsdalechristian.org
SUMMARY:How to Afford a Private Christian Education
DESCRIPTION:
URL:https://scottsdalechristian.org/calendar/how-to-afford-a-private-christian-education-5/
CATEGORIES:General
END:VEVENT
END:VCALENDAR